BEGIN:VCALENDAR
VERSION:2.0
PRODID:-//Sydney Leather Festival - ECPv6.15.20//NONSGML v1.0//EN
CALSCALE:GREGORIAN
METHOD:PUBLISH
X-ORIGINAL-URL:https://sydneyleatherfestival.com.au
X-WR-CALDESC:Events for Sydney Leather Festival
REFRESH-INTERVAL;VALUE=DURATION:PT1H
X-Robots-Tag:noindex
X-PUBLISHED-TTL:PT1H
BEGIN:VTIMEZONE
TZID:Australia/Sydney
BEGIN:STANDARD
TZOFFSETFROM:+1100
TZOFFSETTO:+1000
TZNAME:AEST
DTSTART:20240406T160000
END:STANDARD
BEGIN:DAYLIGHT
TZOFFSETFROM:+1000
TZOFFSETTO:+1100
TZNAME:AEDT
DTSTART:20241005T160000
END:DAYLIGHT
BEGIN:STANDARD
TZOFFSETFROM:+1100
TZOFFSETTO:+1000
TZNAME:AEST
DTSTART:20250405T160000
END:STANDARD
BEGIN:DAYLIGHT
TZOFFSETFROM:+1000
TZOFFSETTO:+1100
TZNAME:AEDT
DTSTART:20251004T160000
END:DAYLIGHT
BEGIN:STANDARD
TZOFFSETFROM:+1100
TZOFFSETTO:+1000
TZNAME:AEST
DTSTART:20260404T160000
END:STANDARD
BEGIN:DAYLIGHT
TZOFFSETFROM:+1000
TZOFFSETTO:+1100
TZNAME:AEDT
DTSTART:20261003T160000
END:DAYLIGHT
END:VTIMEZONE
BEGIN:VEVENT
DTSTART;TZID=Australia/Sydney:20250727T140000
DTEND;TZID=Australia/Sydney:20250727T180000
DTSTAMP:20260425T224256
CREATED:20250219T230047Z
LAST-MODIFIED:20250506T074228Z
UID:3062-1753624800-1753639200@sydneyleatherfestival.com.au
SUMMARY:SLF25 - FINALE Tea Dance with DJ Hamo
DESCRIPTION:SLF Presents FINALE Tea Dance with DJ Hamo \nFREE ENTRY  \nALL WELCOME – BRING YOUR FRIENDS  \nThis event will take place on the ground floor of the Iconic Oxford Hotel with the outdoor balcony. This is an opportunity to wrap up the 10 days of SLF25 with friends new and existing and shake that groove thang one more time to the sounds of DJ Hamo busting out the good vibe tunes for us. \nThis is a positive vibe social space that WELCOMES ALL. \nSunday 27th July – 2pm to 6pm (DJ Hamo from 3 to 6pm) \nDress Code: Leather & Fetish Encouraged but Not Essential. \n*After this event\, remember to support The Hide at the Burdekin* \n 
URL:https://sydneyleatherfestival.com.au/event/slf25-finale-tea-dance/
LOCATION:Oxford Hotel\, 134 Oxford Street\, Darlinghurst\, NSW\, 2010\, Australia
CATEGORIES:Dance
ATTACH;FMTTYPE=image/jpeg:https://sydneyleatherfestival.com.au/wp-content/uploads/2025/02/slf25_eventbanner_finale.jpg
END:VEVENT
BEGIN:VEVENT
DTSTART;TZID=Australia/Sydney:20250726T210000
DTEND;TZID=Australia/Sydney:20250727T030000
DTSTAMP:20260425T224256
CREATED:20250220T043951Z
LAST-MODIFIED:20250629T100607Z
UID:3113-1753563600-1753585200@sydneyleatherfestival.com.au
SUMMARY:SLF25 - Leather Nation - Competition After Party
DESCRIPTION:SLF25 – Leather Nation – The Leather Titles Competition After Party \nTickets – https://events.humanitix.com/ln-syd \nSomething big is coming… it’s built on a legacy of legendary leather nights.\n\nIntroducing LEATHER NATION\, an inclusive leather and fetish party for all\, brought to you by the producer behind the iconic Woofclub. That’s right\, this party has pedigree… and now it has a new pulse.\n\n– Electric sounds.– A charged atmosphere.– Be surrounded by fellow leather\, fetish and kink lovers ready to dance\, connect\, and celebrate.\n\nLEATHER NATION is the official afterparty of the Sydney Titles Competition\, but you don’t need to attend the competition to be part of the party. Everyone is welcome. This is a space to come together\, feel the music\, and own your look\, your energy\, your presence.\nTo keep up to date with tickets and more details join the Facebook group – Leather Nation Party | Facebook
URL:https://sydneyleatherfestival.com.au/event/slf25-dance-event-competition-after-party/
LOCATION:Oxford Hotel\, 134 Oxford Street\, Darlinghurst\, NSW\, 2010\, Australia
CATEGORIES:Dance
ATTACH;FMTTYPE=image/jpeg:https://sydneyleatherfestival.com.au/wp-content/uploads/2025/02/906caef8-8587-4003-920a-c74843f63bd8.jpg
END:VEVENT
BEGIN:VEVENT
DTSTART;TZID=Australia/Sydney:20250720T170000
DTEND;TZID=Australia/Sydney:20250720T220000
DTSTAMP:20260425T224256
CREATED:20250220T040133Z
LAST-MODIFIED:20250530T014900Z
UID:3108-1753030800-1753048800@sydneyleatherfestival.com.au
SUMMARY:SLF25 - The Blue Oyster Leather & Fetish Bar
DESCRIPTION:HAUS OF SAVVY presents THE BLUE OYSTER BAR during Sydney Leather Festival 2025\n\nSunday the 20th of July from 5pm – 10pm Upstairs @ Stonewall Hotel\n\nAll the hottest bar tracks from the 80s.\n\nPresale Tickets (Cloak Check Included)\n*Discount code for DOB and SLM members get $10 off presale tickets or show your membership card at the door.\n\nThe Blue Oyster Bar is based on an imaginary leather bar popularised by the film Police Academy in the 1980s\, it is a tongue-in-cheek\, satirical and light-hearted take on a classic leather bar. We play 1980s and disco-era music at our Retro Leather night. It is fun\, inclusive\, and welcoming to all lovers of leather and the 80s music they played in their clubs and pubs back in the day!\nThe Blue Oyster Bar is a leather/fetish event that brings together diverse individuals for a night of retro music and social mingling.\n\nThis is to celebrate Sydney Leather Festival 2025. The Blue Oyster Bar pays homage to an era where community\, resilience and music brought us together\, as a subculture.\n\nWe welcome all the kink/fetish communities and their friends.\n\nWe promote trans inclusion and encourage diverse individuals with a curiosity about kink/fetish to attend.\n\nCome and have a Dance and a Long Island Iced Tea or two at THE BLUE OYSTER BAR
URL:https://sydneyleatherfestival.com.au/event/slf25-the-blue-oyster-leather-fetish-bar/
LOCATION:Stonewall\, Oxford Street\, Darlinghurst\, 2010\, Australia
CATEGORIES:Dance,Social
ATTACH;FMTTYPE=image/jpeg:https://sydneyleatherfestival.com.au/wp-content/uploads/2025/02/slf25_eventbanner_blueoyster-v2.jpg
END:VEVENT
BEGIN:VEVENT
DTSTART;TZID=Australia/Sydney:20250719T200000
DTEND;TZID=Australia/Sydney:20250720T010000
DTSTAMP:20260425T224256
CREATED:20250220T034137Z
LAST-MODIFIED:20250502T042953Z
UID:3099-1752955200-1752973200@sydneyleatherfestival.com.au
SUMMARY:SLF25 - Trouble - Eagle Bar Sydney
DESCRIPTION:TROUBLE – EAGLE Bar returns for Sydney Leather Festival 2025.\n\nLooking for TROUBLE ? Getting into TROUBLE ?\n\nGet ready to unleash your wild side! Eagle Sydney is turning up the heat with a night dedicated to all things daring\, bold\, and just a little bit… TROUBLE.\n\nDJs all night. Coat check included. $20 at the door.
URL:https://sydneyleatherfestival.com.au/event/slf25-dance-event/
LOCATION:Burdekin Hotel\, Australia
CATEGORIES:Dance
ATTACH;FMTTYPE=image/jpeg:https://sydneyleatherfestival.com.au/wp-content/uploads/2025/02/slf25_eventbanner_trouble.jpg
END:VEVENT
BEGIN:VEVENT
DTSTART;TZID=Australia/Sydney:20250718T200000
DTEND;TZID=Australia/Sydney:20250719T020000
DTSTAMP:20260425T224256
CREATED:20250220T021548Z
LAST-MODIFIED:20250530T015242Z
UID:3089-1752868800-1752890400@sydneyleatherfestival.com.au
SUMMARY:SLF25 - Butch Club Presents Kinky Beats
DESCRIPTION:Butch Club presents: Kinky BeatsFriday Night at Darling Nikki’s – 8pm ‘til late \nTickets Available Here  \nPrepare for a wild\, unforgettable night—Kinky Butch is coming\, and it’s bringing all the heat. We’re talking killer performances\, cheeky surprises\, two bars to keep the drinks flowing\, and a space to play\, unwind\, and let loose. Whether you’re here for the food\, the free pool\, or to experience the night as it unfolds\, there’s something for everyone. \nThis isn’t your average night out—it’s a kinky celebration of unapologetic butch club fun\, so get ready for the unexpected. Trust us\, the secrets we’ve got in store will have you talking long after the night ends. \nTurn the volume (and the heat) up.
URL:https://sydneyleatherfestival.com.au/event/slf25-butch-club-kinky-beats/
LOCATION:Darling Nikki’s\, 161 Princes Hwy\, St Peters\, NSW\, 2044\, Australia
CATEGORIES:Dance
ATTACH;FMTTYPE=image/jpeg:https://sydneyleatherfestival.com.au/wp-content/uploads/2025/02/slf25_eventbanner_butchclubkinkybeats.jpg
END:VEVENT
END:VCALENDAR